Workbook
Name rdn: #REF!
Name rdx: #REF!
Name rrd: #REF!

Sheet Resumen CUSPT E ajustados
A2: EMPRESA DE TRANSMISIÓN ELÉCTRICA, S.A.
A3: Gerencia de Tarifas
A4: Resumen CUSPT Equivalentes ajustados
A5: II SEMESTRE-Año 1 | B5: Zona: | C5: 1 | D5: 2 | E5: 3 | F5: 4 | G5: 5 | H5: 6 | I5: 7 | J5: 8 | K5: 9 | L5: 10
A6: CUSPT equivalente Pliego Tarifario | C6: 1.6020792 | D6: 1.2436102 | E6: 1.3586509 | F6: 1.5051595 | G6: 0.9522948 | H6: 0 | I6: 0 | J6: 0.30012112 | K6: 0 | L6: 1.6129263
A7: CUSPT Equivalente ajustado Enero 2014 | C7: 1.3298316 | D7: 1.6804159 | E7: 1.4133947 | F7: 1.390694 | G7: 2.378942 | H7: 0 | I7: 0 | J7: 0.52726335 | K7: 0 | L7: 1.4858249
A8: CUSPT Equivalente ajustado Febrero 2014 | C8: 1.0761492 | D8: 1.6803459 | E8: 1.1035949 | F8: 1.1354289 | G8: 2.5322844 | H8: 0 | I8: 0 | J8: 0.42179025 | K8: 0 | L8: 1.3402478
A9: CUSPT Equivalente ajustado Marzo 2014 | C9: 1.1878564 | D9: 1.8888711 | E9: 1.1800685 | F9: 1.2859551 | G9: 2.5241748 | H9: 0 | I9: 0 | J9: 0.50653918 | K9: 0 | L9: 1.3393419
A10: CUSPT Equivalente ajustado Abril 2014 | C10: 1.2761261 | D10: 1.5456362 | E10: 1.2522841 | F10: 1.2748645 | G10: 2.679414 | H10: 0 | I10: 0 | J10: 0.55045531 | K10: 0 | L10: 1.4636873
A11: CUSPT Equivalente ajustado Mayo 2014 | C11: 1.7144929 | D11: 1.2394637 | E11: 1.3670884 | F11: 1.9688601 | G11: 2.9186908 | H11: 0 | I11: 0 | J11: 0.55873505 | K11: 0 | L11: 1.9329944
A12: CUSPT Equivalente ajustado Junio 2014 | C12: 1.6772523 | D12: 1.1594235 | E12: 1.0720168 | F12: 1.7462636 | G12: 1.3270561 | H12: 0 | I12: 0 | J12: 0.30902468 | K12: 0 | L12: 2.2428564
A15: AÑO TARIFARIO No. 2 (01 Julio 2014- 30 Junio 2015)
A16: I SEMESTRE-Año 2 | B16: Zona: | C16: 1 | D16: 2 | E16: 3 | F16: 4 | G16: 5 | H16: 6 | I16: 7 | J16: 8 | K16: 9 | L16: 10
A17: CUSPT equivalente Pliego Tarifario | C17: 1.3927786 | D17: 1.1894333 | E17: 1.7697261 | F17: 1.2871206 | G17: 2.2062305 | H17: 0 | I17: 0 | J17: 0.27247548 | K17: 0 | L17: 2.2078329
A18: CUSPT Equivalente ajustado Julio 2014 | C18: 1.6258815 | D18: 1.9794557 | E18: 1.5147511 | F18: 1.4207291 | G18: 0.48471773 | H18: 0 | I18: 0 | J18: 0.4097637 | K18: 0 | L18: 2.7504827
A19: CUSPT Equivalente ajustado Agosto 2014 | C19: 1.7826592 | D19: 2.137851 | E19: 1.5032477 | F19: 1.2481104 | G19: 0.20118461 | H19: 0 | I19: 0 | J19: 0.39569723 | K19: 0 | L19: 2.2543186
A20: CUSPT Equivalente ajustado Septiembre 2014 | C20: 2.5814114 | D20: 1.6157113 | E20: 2.0446228 | F20: 1.9159266 | G20: 0.24386168 | H20: 0 | I20: 0 | J20: 0.38307087 | K20: 0 | L20: 2.3999234
A21: CUSPT Equivalente ajustado Octubre 2014 | C21: 2.8775307 | D21: 1.7154087 | E21: 2.2272565 | F21: 2.3096643 | G21: 0.27311411 | H21: 0 | I21: 0 | J21: 0.43270375 | K21: 0 | L21: 2.7552752
A22: CUSPT Equivalente ajustado Noviembre 2014 | C22: 2.3025685 | D22: 2.1052205 | E22: 1.8274549 | F22: 1.9995444 | G22: 0.33202432 | H22: 0 | I22: 0 | J22: 0.39548722 | K22: 0 | L22: 2.4663072
A23: CUSPT Equivalente ajustado Diciembre 2014 | C23: 1.5622023 | D23: 2.349473 | E23: 1.7569868 | F23: 1.7234801 | G23: 0.39180732 | H23: 0 | I23: 0 | J23: 0.43913598 | K23: 0 | L23: 2.1582606
A25: II SEMESTRE-Año 2 | B25: Zona: | C25: 1 | D25: 2 | E25: 3 | F25: 4 | G25: 5 | H25: 6 | I25: 7 | J25: 8 | K25: 9 | L25: 10
A26: CUSPT equivalente Pliego Tarifario | C26: 1.3927786 | D26: 1.1894333 | E26: 1.7697261 | F26: 1.2871206 | G26: 2.2062305 | H26: 0 | I26: 0 | J26: 0.27247548 | K26: 0 | L26: 2.2078329
A27: CUSPT Equivalente ajustado Enero 2015 | C27: 0.86850577 | D27: 2.0071753 | E27: 1.3540761 | F27: 1.0157381 | G27: 0.79784457 | H27: 0 | I27: 0 | J27: 0.15036158 | K27: 0 | L27: 1.9348226
A28: CUSPT Equivalente ajustado Febrero 2015 | C28: 0.76592274 | D28: 1.7587594 | E28: 1.067291 | F28: 0.93362338 | G28: 1.9554248 | H28: 0 | I28: 0 | J28: 0.27085478 | K28: 0 | L28: 1.7468351
A29: CUSPT Equivalente ajustado Marzo 2015 | C29: 0.81919911 | D29: 2.2484383 | E29: 0.85272338 | F29: 0.96794817 | G29: 3.8723378 | H29: 0 | I29: 0 | J29: 0.27705341 | K29: 0 | L29: 1.7002486
A30: CUSPT Equivalente ajustado Abril 2015 | C30: 0.80092389 | D30: 2.1152684 | E30: 0.94497737 | F30: 0.89672151 | G30: 4.0022393 | H30: 0 | I30: 0 | J30: 0.2773579 | K30: 0 | L30: 1.2545688
A31: CUSPT Equivalente ajustado Mayo 2015 | C31: 1.0026319 | D31: 1.45345 | E31: 1.0510634 | F31: 1.202932 | G31: 3.8215633 | H31: 0 | I31: 0 | J31: 0.27946394 | K31: 0 | L31: 2.2239416
A32: CUSPT Equivalente ajustado Junio 2015 | C32: 1.3986654 | D32: 1.588574 | E32: 1.430032 | F32: 1.5772271 | G32: 3.3293594 | H32: 0 | I32: 0 | J32: 0.2740322 | K32: 0 | L32: 2.8635352
A34: AÑO TARIFARIO No. 3 (01 Julio 2015- 30 Junio 2016)
A35: I SEMESTRE-Año 3 | B35: Zona: | C35: 1 | D35: 2 | E35: 3 | F35: 4 | G35: 5 | H35: 6 | I35: 7 | J35: 8 | K35: 9 | L35: 10
A36: CUSPT equivalente Pliego Tarifario | C36: 1.0009085 | D36: 1.5883328 | E36: 1.4434688 | F36: 1.1156803 | G36: 2.3165091 | H36: 0 | I36: 0 | J36: 0.36979216 | K36: 0 | L36: 1.9090075
A37: CUSPT Equivalente ajustado Julio 2015 | C37: 1.6550387 | D37: 2.1504083 | E37: 1.4933408 | F37: 0.8019652 | G37: 2.9096713 | H37: 0 | I37: 0 | J37: 0.33585815 | K37: 0 | L37: 3.614725
A38: CUSPT Equivalente ajustado Agosto 2015 | C38: 1.5456629 | D38: 2.5689985 | E38: 1.2842989 | F38: 0.68564932 | G38: 4.2903336 | H38: 0 | I38: 0 | J38: 0.39714965 | K38: 0 | L38: 3.1292116
A39: CUSPT Equivalente ajustado Septiembre 2015 | C39: 1.9134554 | D39: 2.5186236 | E39: 1.3755243 | F39: 1.7467636 | G39: 2.3401822 | H39: 0 | I39: 0 | J39: 0.42716653 | K39: 0 | L39: 2.0393589
A40: CUSPT Equivalente ajustado Octubre 2015 | C40: 2.430395 | D40: 1.9415184 | E40: 1.8956208 | F40: 2.6035825 | G40: 2.9034912 | H40: 0 | I40: 0 | J40: 0.42795241 | K40: 0 | L40: 2.2517655
A41: CUSPT Equivalente ajustado Noviembre 2015 | C41: 1.6812752 | D41: 1.051095 | E41: 1.6261125 | F41: 1.7051772 | G41: 1.8388613 | H41: 0 | I41: 0 | J41: 0.31333708 | K41: 0 | L41: 2.0380074
A42: CUSPT Equivalente ajustado Diciembre 2015 | C42: 1.134596 | D42: 1.4874148 | E42: 1.2875687 | F42: 1.3958517 | G42: 3.9671049 | H42: 0 | I42: 0 | J42: 0.32352357 | K42: 0 | L42: 1.9296752
A44: II SEMESTRE-Año 3 | B44: Zona: | C44: 1 | D44: 2 | E44: 3 | F44: 4 | G44: 5 | H44: 6 | I44: 7 | J44: 8 | K44: 9 | L44: 10
A45: CUSPT equivalente Pliego Tarifario | C45: 1.0009085 | D45: 1.5883328 | E45: 1.4434688 | F45: 1.1156803 | G45: 2.3165091 | H45: 0 | I45: 0 | J45: 0.36979216 | K45: 0 | L45: 1.9090075
A46: CUSPT Equivalente ajustado Enero 2016 | C46: 1.0065172 | D46: 1.5105979 | E46: 1.2802404 | F46: 1.3965166 | G46: 6.4314703 | H46: 0 | I46: 0 | J46: 0.48399416 | K46: 0 | L46: 1.4445209
...

Sheet CUSPT Equivalente - Generadores
A2: EMPRESA DE TRANSMISIÓN ELÉCTRICA, S.A.
A3: PERIODO TARIFARIO 2021-2025
A4: CARGO EQUIVALENTE POR USO DEL SISTEMA DE TRANSMISIÓN PARA GENERADORES
A5: Según Resolución AN No. 8068-Elec del 20 de noviembre de 2014
A6: Ingreso Total Previsto por CUSPT (Seguimiento Eléctrico + Estampilla Postal) [ kB/. ]
A7: Zona: | C7: 1 | D7: 2 | E7: 3 | F7: 4 | G7: 5 | H7: 6 | I7: 7 | J7: 8 | K7: 9 | L7: 10 | M7: Total
A8: AT1 | B8: GEN | C8: 3241.2535 | D8: 11143.799 | E8: 2431.8854 | F8: 6023.6751 | G8: 2777.5474 | H8: 1259.745 | I8: 797.30415 | J8: 2520.909 | K8: 6465.5459 | L8: 5135.4425 | M8: =SUM(C8:L8) -> 41797.107
A9: AT2 | B9: GEN | C9: 3316.7961 | D9: 9579.2366 | E9: 2665.7726 | F9: 6418.71 | G9: 4331.0472 | H9: 992.819 | I9: 788.77359 | J9: 2181.5955 | K9: 5269.5231 | L9: 5402.4009 | M9: =SUM(C9:L9) -> 40946.675
A10: AT3 | B10: GEN | C10: 3628.75 | D10: 8252.78 | E10: 2667.43 | F10: 6299.99 | G10: 5796.75 | H10: 808.64 | I10: 824.24 | J10: 1503.41 | K10: 4494.11 | L10: 5783.41 | M10: =SUM(C10:L10) -> 40059.51
A11: AT4 | B11: GEN | C11: 4108.4812 | D11: 6680.1055 | E11: 2880.6183 | F11: 5569.403 | G11: 5615.1892 | H11: 1224.8998 | I11: 876.33741 | J11: 1487.9733 | K11: 7245.6527 | L11: 3446.8993 | M11: =SUM(C11:L11) -> 39135.56
A13: Capacidad Instalada de Generación (Cinst) [ MW ]
A14: Zona: | C14: 1 | D14: 2 | E14: 3 | F14: 4 | G14: 5 | H14: 6 | I14: 7 | J14: 8 | K14: 9 | L14: 10 | M14: Total
A15: AT1 | B15: Cinst (G) | C15: 212.7946 | D15: 537.8 | E15: 155.27 | F15: 343.2 | G15: 150.63862 | H15: 151.3 | I15: 159.33 | J15: 260 | K15: 740.45 | L15: 252.17 | M15: =SUM(C15:L15) -> 2962.9532
A16: AT2 | B16: Cinst (G) | C16: 294.17 | D16: 428.69 | E16: 152.99 | F16: 408.96 | G16: 770.55862 | H16: 147 | I16: 159.33 | J16: 260 | K16: 740.25 | L16: 252.17 | M16: =SUM(C16:L16) -> 3614.1186
A17: AT3 | B17: Cinst (G) | C17: 320.07 | D17: 548.69 | E17: 154.74 | F17: 410.53 | G17: 815.45 | H17: 147 | I17: 159.33 | J17: 260 | K17: 740.25 | L17: 252.17 | M17: =SUM(C17:L17) -> 3808.23
A18: AT4 | B18: Cinst (G) | C18: 360.07 | D18: 548.69 | E18: 154.74 | F18: 490.43 | G18: 823.48862 | H18: 147 | I18: 159.33 | J18: 260 | K18: 1410.25 | L18: 252.17 | M18: =SUM(C18:L18) -> 4606.1686
A20: APROBADOS EN EL PLIEGO TARIFARIO PUBLICADO-VIGENTE
A21: CUSPT equivalentes [ B/. / kW-mes ]
A22: Zona: | C22: 1 | D22: 2 | E22: 3 | F22: 4 | G22: 5 | H22: 6 | I22: 7 | J22: 8 | K22: 9 | L22: 10
A23: AT1 | B23: GEN | C23: =IF(C15>0,C8/(C15*12),0) -> 1.2693201 | D23: =IF(D15>0,D8/(D15*12),0) -> 1.726757 | E23: =IF(E15>0,E8/(E15*12),0) -> 1.3051917 | F23: =IF(F15>0,F8/(F15*12),0) -> 1.4626251 | G23: =IF(G15>0,G8/(G15*12),0) -> 1.5365401 | H23: =IF(H15>0,H8/(H15*12),0) -> 0.69384503 | I23: =IF(I15>0,I8/(I15*12),0) -> 0.4170088 | J23: =IF(J15>0,J8/(J15*12),0) -> 0.80798366 | ... L23: =IF(L15>0,L8/(L15*12),0) -> 1.6970835 | M23: =SUM(C23:L23) -> 11.644015
A24: AT2 | B24: GEN | C24: =IF(C16>0,C9/(C16*12),0) -> 0.93959166 | D24: =IF(D16>0,D9/(D16*12),0) -> 1.8621142 | E24: =IF(E16>0,E9/(E16*12),0) -> 1.4520408 | F24: =IF(F16>0,F9/(F16*12),0) -> 1.3079335 | G24: =IF(G16>0,G9/(G16*12),0) -> 0.46838825 | H24: =IF(H16>0,H9/(H16*12),0) -> 0.56282256 | I24: =IF(I16>0,I9/(I16*12),0) -> 0.41254712 | J24: =IF(J16>0,J9/(J16*12),0) -> 0.69922932 | ... L24: =IF(L16>0,L9/(L16*12),0) -> 1.7853038 | M24: =SUM(C24:L24) -> 10.083186
A25: AT3 | B25: GEN | C25: =IF(C17>0,C10/(C17*12),0) -> 0.94478031 | D25: =IF(D17>0,D10/(D17*12),0) -> 1.2534066 | E25: =IF(E17>0,E10/(E17*12),0) -> 1.4365118 | F25: =IF(F17>0,F10/(F17*12),0) -> 1.2788326 | G25: =IF(G17>0,G10/(G17*12),0) -> 0.59238764 | H25: =IF(H17>0,H10/(H17*12),0) -> 0.4584127 | I25: =IF(I17>0,I10/(I17*12),0) -> 0.43109688 | J25: =IF(J17>0,J10/(J17*12),0) -> 0.48186218 | ... L25: =IF(L17>0,L10/(L17*12),0) -> 1.911214 | M25: =SUM(C25:L25) -> 9.2944273
A26: AT4 | B26: GEN | C26: =IF(C18>0,C11/(C18*12),0) -> 0.95085243 | D26: =IF(D18>0,D11/(D18*12),0) -> 1.0145537 | E26: =IF(E18>0,E11/(E18*12),0) -> 1.5513217 | F26: =IF(F18>0,F11/(F18*12),0) -> 0.94634691 | G26: =IF(G18>0,G11/(G18*12),0) -> 0.56823181 | H26: =IF(H18>0,H11/(H18*12),0) -> 0.69438766 | I26: =IF(I18>0,I11/(I18*12),0) -> 0.45834505 | J26: =IF(J18>0,J11/(J18*12),0) -> 0.47691451 | ... L26: =IF(L18>0,L11/(L18*12),0) -> 1.1390792 | M26: =SUM(C26:L26) -> 8.2281872
A28: CUSPT equivalentes mensuales ajustados [ B/. / kW-mes ]
A30: Julio 2025- Junio 2026 | B30: Zona: | C30: 1 | D30: 2 | E30: 3 | F30: 4 | G30: 5 | H30: 6 | I30: 7 | J30: 8 | K30: 9 | L30: 10 | M30: Total
A31: Ingreso previsto mensual inicial | C31: =+C11/12 -> 342.37344 | D31: =+D11/12 -> 556.67546 | E31: =+E11/12 -> 240.05153 | F31: =+F11/12 -> 464.11692 | G31: =+G11/12 -> 467.93243 | H31: =+H11/12 -> 102.07499 | I31: =+I11/12 -> 73.028117 | J31: =+J11/12 -> 123.99777 | ... L31: =+L11/12 -> 287.24161 | M31: =SUM(C31:L31) -> 3261.2966
A32: Capacidad Instalada MW | C32: =+C18 -> 360.07 | D32: =+D18 -> 548.69 | E32: =+E18 -> 154.74 | F32: =+F18 -> 490.43 | G32: =+G18 -> 823.48862 | H32: =+H18 -> 147 | I32: =+I18 -> 159.33 | J32: =+J18 -> 260 | ... L32: =+L18 -> 252.17 | M32: =SUM(C32:L32) -> 4606.1686
A33: Cargo equivalente inicial | C33: =C31/C32 -> 0.95085243 | D33: =D31/D32 -> 1.0145537 | E33: =E31/E32 -> 1.5513217 | F33: =F31/F32 -> 0.94634691 | G33: =G31/G32 -> 0.56823181 | H33: =H31/H32 -> 0.69438766 | I33: =I31/I32 -> 0.45834505 | J33: =J31/J32 -> 0.47691451 | ... L33: =L31/L32 -> 1.1390792 | M33: =SUM(C33:L33) -> 8.2281872
A34: % Variación respecto al inicial | C34: =(C33-C26)/C26 -> 1.1676081e-16 | D34: =(D33-D26)/D26 -> 0 | E34: =(E33-E26)/E26 -> 0 | F34: =(F33-F26)/F26 -> 0 | G34: =(G33-G26)/G26 -> -1.9538206e-16 | H34: =(H33-H26)/H26 -> 0 | I34: =(I33-I26)/I26 -> -1.2111214e-16 | J34: =(J33-J26)/J26 -> 0 | ... L34: =(L33-L26)/L26 -> 0 | M34: =(M33-M26)/M25 -> 1.9112063e-16
A37: 45839 | B37: Zona: | C37: 1 | D37: 2 | E37: 3 | F37: 4 | G37: 5 | H37: 6 | I37: 7 | J37: 8 | K37: 9 | L37: 10 | M37: Total
A38: Ingreso previsto mensual facturado | C38: 210.4271 | D38: 894.10583 | E38: 179.08233 | F38: 498.05841 | G38: 476.91828 | H38: 77.527008 | I38: 56.878151 | J38: 184.1494 | K38: 576.65869 | L38: 317.69833 | M38: =SUM(C38:L38) -> 3471.5035
A39: Capacidad Instalada MW | C39: 357.97 | D39: 574.28 | E39: 178.73 | F39: 410.41 | G39: 771.6 | H39: 167 | I39: 111.38 | J39: 260 | K39: 1178.45 | L39: 252.17 | M39: =SUM(C39:L39) -> 4261.99
A40: Cargo equivalente ajustado | C40: =C38/C39 -> 0.58783446 | D40: =D38/D39 -> 1.5569162 | E40: =E38/E39 -> 1.0019713 | F40: =F38/F39 -> 1.2135631 | G40: =G38/G39 -> 0.61809005 | H40: =H38/H39 -> 0.46423358 | I40: =I38/I39 -> 0.51066754 | J40: =J38/J39 -> 0.7082669 | ... M40: =M38/M39 -> 0.81452644
A41: % Variación respecto al inicial | C41: =(C40-$C$33)/$C$33 -> -0.38178161 | D41: =(D40-$D$33)/$D$33 -> 0.53458238 | E41: =(E40-$E$33)/$E$33 -> -0.35411767 | F41: =(F40-$F$33)/$F$33 -> 0.28236595 | G41: =(G40-$G$33)/$G$33 -> 0.08774277 | H41: =(H40-$H$33)/$H$33 -> -0.33144898 | I41: =(I40-$I$33)/$I$33 -> 0.11415524 | J41: =(J40-$J$33)/$J$33 -> 0.48510246 | K41: =(K40-$K$33)/$K$33 -> 0.14289812 | L41: =(L40-$L$33)/$L$33 -> 0.10603174 | M41: =(M40-$M$33)/$M$33 -> -0.90100779
A43: 45870 | B43: Zona: | C43: 1 | D43: 2 | E43: 3 | F43: 4 | G43: 5 | H43: 6 | I43: 7 | J43: 8 | K43: 9 | L43: 10 | M43: Total
A44: Ingreso previsto mensual facturado | C44: 209.96742 | D44: 892.77028 | E44: 178.78394 | F44: 497.32073 | G44: 475.708 | H44: 77.354921 | I44: 56.766771 | J44: 183.80507 | K44: 575.32069 | L44: 317.23827 | M44: =SUM(C44:L44) -> 3465.0361
A45: Capacidad Instalada MW | C45: 357.97 | D45: 574.28 | E45: 178.73 | F45: 410.41 | G45: 771.6 | H45: 167 | I45: 111.38 | J45: 260 | K45: 1178.45 | L45: 252.17 | M45: =SUM(C45:L45) -> 4261.99
A46: Cargo equivalente ajustado | C46: =C44/C45 -> 0.58655031 | D46: =D44/D45 -> 1.5545906 | E46: =E44/E45 -> 1.0003018 | F46: =F44/F45 -> 1.2117656 | G46: =G44/G45 -> 0.61652151 | H46: =H44/H45 -> 0.46320312 | I46: =I44/I45 -> 0.50966754 | J46: =J44/J45 -> 0.70694258 | ... M46: =M44/M45 -> 0.81300897
A47: % Variación respecto al inicial | C47: =(C46-$C$33)/$C$33 -> -0.38313213 | D47: =(D46-$D$33)/$D$33 -> 0.53229012 | E47: =(E46-$E$33)/$E$33 -> -0.35519384 | F47: =(F46-$F$33)/$F$33 -> 0.28046661 | G47: =(G46-$G$33)/$G$33 -> 0.084982395 | H47: =(H46-$H$33)/$H$33 -> -0.33293296 | I47: =(I46-$I$33)/$I$33 -> 0.11197348 | J47: =(J46-$J$33)/$J$33 -> 0.48232561 | K47: =(K46-$K$33)/$K$33 -> 0.1402463 | L47: =(L46-$L$33)/$L$33 -> 0.10443008 | M47: =(M46-$M$33)/$M$33 -> -0.90119221
A49: 45901 | B49: Zona: | C49: 1 | D49: 2 | E49: 3 | F49: 4 | G49: 5 | H49: 6 | I49: 7 | J49: 8 | K49: 9 | L49: 10 | M49: Total
...
