Workbook
Name rdn: #REF!
Name rdx: #REF!
Name rrd: #REF!

Sheet Resumen CUSPT E ajustados
A2: EMPRESA DE TRANSMISIÓN ELÉCTRICA, S.A.
A3: Gerencia de Tarifas
A4: Resumen CUSPT Equivalentes ajustados
A5: II SEMESTRE-Año 1 | B5: Zona: | C5: 1 | D5: 2 | E5: 3 | F5: 4 | G5: 5 | H5: 6 | I5: 7 | J5: 8 | K5: 9 | L5: 10
A6: CUSPT equivalente Pliego Tarifario | C6: 1.6020792 | D6: 1.2436102 | E6: 1.3586509 | F6: 1.5051595 | G6: 0.9522948 | H6: 0 | I6: 0 | J6: 0.30012112 | K6: 0 | L6: 1.6129263
A7: CUSPT Equivalente ajustado Enero 2014 | C7: 1.3298316 | D7: 1.6804159 | E7: 1.4133947 | F7: 1.390694 | G7: 2.378942 | H7: 0 | I7: 0 | J7: 0.52726335 | K7: 0 | L7: 1.4858249
A8: CUSPT Equivalente ajustado Febrero 2014 | C8: 1.0761492 | D8: 1.6803459 | E8: 1.1035949 | F8: 1.1354289 | G8: 2.5322844 | H8: 0 | I8: 0 | J8: 0.42179025 | K8: 0 | L8: 1.3402478
A9: CUSPT Equivalente ajustado Marzo 2014 | C9: 1.1878564 | D9: 1.8888711 | E9: 1.1800685 | F9: 1.2859551 | G9: 2.5241748 | H9: 0 | I9: 0 | J9: 0.50653918 | K9: 0 | L9: 1.3393419
A10: CUSPT Equivalente ajustado Abril 2014 | C10: 1.2761261 | D10: 1.5456362 | E10: 1.2522841 | F10: 1.2748645 | G10: 2.679414 | H10: 0 | I10: 0 | J10: 0.55045531 | K10: 0 | L10: 1.4636873
A11: CUSPT Equivalente ajustado Mayo 2014 | C11: 1.7144929 | D11: 1.2394637 | E11: 1.3670884 | F11: 1.9688601 | G11: 2.9186908 | H11: 0 | I11: 0 | J11: 0.55873505 | K11: 0 | L11: 1.9329944
A12: CUSPT Equivalente ajustado Junio 2014 | C12: 1.6772523 | D12: 1.1594235 | E12: 1.0720168 | F12: 1.7462636 | G12: 1.3270561 | H12: 0 | I12: 0 | J12: 0.30902468 | K12: 0 | L12: 2.2428564
A15: AÑO TARIFARIO No. 2 (01 Julio 2014- 30 Junio 2015)
A16: I SEMESTRE-Año 2 | B16: Zona: | C16: 1 | D16: 2 | E16: 3 | F16: 4 | G16: 5 | H16: 6 | I16: 7 | J16: 8 | K16: 9 | L16: 10
A17: CUSPT equivalente Pliego Tarifario | C17: 1.3927786 | D17: 1.1894333 | E17: 1.7697261 | F17: 1.2871206 | G17: 2.2062305 | H17: 0 | I17: 0 | J17: 0.27247548 | K17: 0 | L17: 2.2078329
A18: CUSPT Equivalente ajustado Julio 2014 | C18: 1.6258815 | D18: 1.9794557 | E18: 1.5147511 | F18: 1.4207291 | G18: 0.48471773 | H18: 0 | I18: 0 | J18: 0.4097637 | K18: 0 | L18: 2.7504827
A19: CUSPT Equivalente ajustado Agosto 2014 | C19: 1.7826592 | D19: 2.137851 | E19: 1.5032477 | F19: 1.2481104 | G19: 0.20118461 | H19: 0 | I19: 0 | J19: 0.39569723 | K19: 0 | L19: 2.2543186
A20: CUSPT Equivalente ajustado Septiembre 2014 | C20: 2.5814114 | D20: 1.6157113 | E20: 2.0446228 | F20: 1.9159266 | G20: 0.24386168 | H20: 0 | I20: 0 | J20: 0.38307087 | K20: 0 | L20: 2.3999234
A21: CUSPT Equivalente ajustado Octubre 2014 | C21: 2.8775307 | D21: 1.7154087 | E21: 2.2272565 | F21: 2.3096643 | G21: 0.27311411 | H21: 0 | I21: 0 | J21: 0.43270375 | K21: 0 | L21: 2.7552752
A22: CUSPT Equivalente ajustado Noviembre 2014 | C22: 2.3025685 | D22: 2.1052205 | E22: 1.8274549 | F22: 1.9995444 | G22: 0.33202432 | H22: 0 | I22: 0 | J22: 0.39548722 | K22: 0 | L22: 2.4663072
A23: CUSPT Equivalente ajustado Diciembre 2014 | C23: 1.5622023 | D23: 2.349473 | E23: 1.7569868 | F23: 1.7234801 | G23: 0.39180732 | H23: 0 | I23: 0 | J23: 0.43913598 | K23: 0 | L23: 2.1582606
A25: II SEMESTRE-Año 2 | B25: Zona: | C25: 1 | D25: 2 | E25: 3 | F25: 4 | G25: 5 | H25: 6 | I25: 7 | J25: 8 | K25: 9 | L25: 10
A26: CUSPT equivalente Pliego Tarifario | C26: 1.3927786 | D26: 1.1894333 | E26: 1.7697261 | F26: 1.2871206 | G26: 2.2062305 | H26: 0 | I26: 0 | J26: 0.27247548 | K26: 0 | L26: 2.2078329
A27: CUSPT Equivalente ajustado Enero 2015 | C27: 0.86850577 | D27: 2.0071753 | E27: 1.3540761 | F27: 1.0157381 | G27: 0.79784457 | H27: 0 | I27: 0 | J27: 0.15036158 | K27: 0 | L27: 1.9348226
A28: CUSPT Equivalente ajustado Febrero 2015 | C28: 0.76592274 | D28: 1.7587594 | E28: 1.067291 | F28: 0.93362338 | G28: 1.9554248 | H28: 0 | I28: 0 | J28: 0.27085478 | K28: 0 | L28: 1.7468351
A29: CUSPT Equivalente ajustado Marzo 2015 | C29: 0.81919911 | D29: 2.2484383 | E29: 0.85272338 | F29: 0.96794817 | G29: 3.8723378 | H29: 0 | I29: 0 | J29: 0.27705341 | K29: 0 | L29: 1.7002486
A30: CUSPT Equivalente ajustado Abril 2015 | C30: 0.80092389 | D30: 2.1152684 | E30: 0.94497737 | F30: 0.89672151 | G30: 4.0022393 | H30: 0 | I30: 0 | J30: 0.2773579 | K30: 0 | L30: 1.2545688
A31: CUSPT Equivalente ajustado Mayo 2015 | C31: 1.0026319 | D31: 1.45345 | E31: 1.0510634 | F31: 1.202932 | G31: 3.8215633 | H31: 0 | I31: 0 | J31: 0.27946394 | K31: 0 | L31: 2.2239416
A32: CUSPT Equivalente ajustado Junio 2015 | C32: 1.3986654 | D32: 1.588574 | E32: 1.430032 | F32: 1.5772271 | G32: 3.3293594 | H32: 0 | I32: 0 | J32: 0.2740322 | K32: 0 | L32: 2.8635352
A34: AÑO TARIFARIO No. 3 (01 Julio 2015- 30 Junio 2016)
A35: I SEMESTRE-Año 3 | B35: Zona: | C35: 1 | D35: 2 | E35: 3 | F35: 4 | G35: 5 | H35: 6 | I35: 7 | J35: 8 | K35: 9 | L35: 10
A36: CUSPT equivalente Pliego Tarifario | C36: 1.0009085 | D36: 1.5883328 | E36: 1.4434688 | F36: 1.1156803 | G36: 2.3165091 | H36: 0 | I36: 0 | J36: 0.36979216 | K36: 0 | L36: 1.9090075
A37: CUSPT Equivalente ajustado Julio 2015 | C37: 1.6550387 | D37: 2.1504083 | E37: 1.4933408 | F37: 0.8019652 | G37: 2.9096713 | H37: 0 | I37: 0 | J37: 0.33585815 | K37: 0 | L37: 3.614725
A38: CUSPT Equivalente ajustado Agosto 2015 | C38: 1.5456629 | D38: 2.5689985 | E38: 1.2842989 | F38: 0.68564932 | G38: 4.2903336 | H38: 0 | I38: 0 | J38: 0.39714965 | K38: 0 | L38: 3.1292116
A39: CUSPT Equivalente ajustado Septiembre 2015 | C39: 1.9134554 | D39: 2.5186236 | E39: 1.3755243 | F39: 1.7467636 | G39: 2.3401822 | H39: 0 | I39: 0 | J39: 0.42716653 | K39: 0 | L39: 2.0393589
A40: CUSPT Equivalente ajustado Octubre 2015 | C40: 2.430395 | D40: 1.9415184 | E40: 1.8956208 | F40: 2.6035825 | G40: 2.9034912 | H40: 0 | I40: 0 | J40: 0.42795241 | K40: 0 | L40: 2.2517655
A41: CUSPT Equivalente ajustado Noviembre 2015 | C41: 1.6812752 | D41: 1.051095 | E41: 1.6261125 | F41: 1.7051772 | G41: 1.8388613 | H41: 0 | I41: 0 | J41: 0.31333708 | K41: 0 | L41: 2.0380074
A42: CUSPT Equivalente ajustado Diciembre 2015 | C42: 1.134596 | D42: 1.4874148 | E42: 1.2875687 | F42: 1.3958517 | G42: 3.9671049 | H42: 0 | I42: 0 | J42: 0.32352357 | K42: 0 | L42: 1.9296752
A44: II SEMESTRE-Año 3 | B44: Zona: | C44: 1 | D44: 2 | E44: 3 | F44: 4 | G44: 5 | H44: 6 | I44: 7 | J44: 8 | K44: 9 | L44: 10
A45: CUSPT equivalente Pliego Tarifario | C45: 1.0009085 | D45: 1.5883328 | E45: 1.4434688 | F45: 1.1156803 | G45: 2.3165091 | H45: 0 | I45: 0 | J45: 0.36979216 | K45: 0 | L45: 1.9090075
A46: CUSPT Equivalente ajustado Enero 2016 | C46: 1.0065172 | D46: 1.5105979 | E46: 1.2802404 | F46: 1.3965166 | G46: 6.4314703 | H46: 0 | I46: 0 | J46: 0.48399416 | K46: 0 | L46: 1.4445209
A47: CUSPT Equivalente ajustado Febrero 2016 | C47: 0.80147515 | D47: 1.4309823 | E47: 1.1682078 | F47: 1.0277663 | G47: 5.6672653 | H47: 0 | I47: 0 | J47: 0.30023676 | K47: 0 | L47: 1.7757018
A48: CUSPT Equivalente ajustado Marzo 2016 | C48: 0.77992648 | D48: 1.7011318 | E48: 1.0108727 | F48: 0.82301719 | G48: 6.4976788 | H48: 0 | I48: 0 | J48: 0.37490768 | K48: 0 | L48: 1.1397549
A49: CUSPT Equivalente ajustado Abril 2016 | C49: 0.83226456 | D49: 1.5541667 | E49: 0.90733659 | F49: 0.88363389 | G49: 4.2080231 | H49: 0 | I49: 0 | J49: 0.43157632 | K49: 0 | L49: 1.2057053
A50: CUSPT Equivalente ajustado Mayo 2016 | C50: 0.97115579 | D50: 1.4890012 | E50: 1.1909518 | F50: 1.1687775 | G50: 4.1328156 | H50: 0 | I50: 0 | J50: 0.35148131 | K50: 0 | L50: 1.6094343
A51: CUSPT Equivalente ajustado Junio 2016 | C51: 2.6271874 | D51: 2.3839471 | E51: 3.4615564 | F51: 2.7277771 | G51: 5.2645722 | H51: 0 | I51: 0 | J51: 0.32494449 | K51: 0 | L51: 4.1942881
A53: AÑO TARIFARIO No. 4 (01 Julio 2016- 30 Junio 2017)
A54: I SEMESTRE-Año 4 | B54: Zona: | C54: 1 | D54: 2 | E54: 3 | F54: 4 | G54: 5 | H54: 6 | I54: 7 | J54: 8 | K54: 9 | L54: 10
A55: CUSPT equivalente Pliego Tarifario | C55: 1.5207405 | D55: 1.1314655 | E55: 2.0747759 | F55: 1.5330243 | G55: 0.39005292 | H55: 0.54917411 | I55: 0.54920494 | J55: 0.89470325 | K55: 0.56713616 | L55: 2.3966044
A56: CUSPT Equivalente ajustado Julio 2016 | C56: 1.387 | D56: 2.2512666 | E56: 1.6836285 | F56: 1.3712994 | G56: 0.94089268 | H56: 0.68428185 | I56: 0.65824242 | J56: 0.6613127 | K56: 0.8413645 | L56: 3.2753147
A57: CUSPT Equivalente ajustado Agosto 2016 | C57: 1.4634316 | D57: 2.219 | E57: 1.3927437 | F57: 1.3857248 | G57: 0.89910976 | H57: 0.63148966 | I57: 0.65824242 | J57: 0.65846469 | K57: 0.60727864 | L57: 2.5059222
A58: CUSPT Equivalente ajustado Septiembre 2016 | C58: 2.0961116 | D58: 2.2173421 | E58: 2.2066688 | F58: 2.0223739 | G58: 3.3521104 | H58: 0.31121397 | I58: 0.29511523 | J58: 0.21166667 | K58: 0.38446306 | L58: 1.1491682
A59: CUSPT Equivalente ajustado Octubre 2016 | C59: 2.6933732 | D59: 1.74269 | E59: 2.9049645 | F59: 2.1880034 | G59: 2.786136 | H59: 0.2782624 | I59: 0.31588025 | J59: 0.21166667 | K59: 0.39009478 | L59: 1.9348508
A60: CUSPT Equivalente ajustado Noviembre 2016 | C60: 2.8419973 | D60: 1.4246954 | E60: 2.4482845 | F60: 2.1174608 | G60: 3.2608302 | H60: 0.31595287 | I60: 0.29963498 | J60: 0.21166667 | K60: 0.35378892 | L60: 1.5987195
A61: CUSPT Equivalente ajustado Diciembre 2016 | C61: 2.3725851 | D61: 1.7381913 | E61: 2.8049933 | F61: 2.0045984 | G61: 7.1428513 | H61: 0.25077054 | I61: 0.31304045 | J61: 0.21166667 | K61: 0.35712248 | L61: 2.3223735
A63: II SEMESTRE-Año 4 | B63: Zona: | C63: 1 | D63: 2 | E63: 3 | F63: 4 | G63: 5 | H63: 6 | I63: 7 | J63: 8 | K63: 9 | L63: 10
A64: CUSPT equivalente Pliego Tarifario | C64: 1.5207405 | D64: 1.1314655 | E64: 2.0747759 | F64: 1.5330243 | G64: 0.39005292 | H64: 0.54917411 | I64: 0.54920494 | J64: 0.89470325 | K64: 0.56713616 | L64: 2.3966044
A65: CUSPT Equivalente ajustado Enero 2017 | C65: 1.2835793 | D65: 2.1444517 | E65: 2.0209641 | F65: 1.3008233 | G65: 13.774323 | H65: 0.35162613 | I65: 0.31113239 | J65: 0.21166667 | K65: 0.35530031 | L65: 2.1274508
A66: CUSPT Equivalente ajustado Febrero 2017 | C66: 0.93131258 | D66: 2.2108153 | E66: 1.0371022 | F66: 1.1257083 | G66: 18.569354 | H66: 0.65452581 | I66: 0.53081483 | J66: 0.3975198 | K66: 0.54921115 | L66: 1.1099133
A67: CUSPT Equivalente ajustado Marzo 2017 | C67: 1.0771899 | D67: 1.9992213 | E67: 0.77099327 | F67: 1.2020705 | G67: 21.740828 | H67: 0.77176531 | I67: 0.63044259 | J67: 0.48867015 | K67: 0.76185617 | L67: 1.7876934
A68: CUSPT Equivalente ajustado Abril 2017 | C68: 1.016604 | D68: 2.4629357 | E68: 1.1804035 | F68: 1.0863394 | G68: 15.029949 | H68: 0.51661028 | I68: 0.53763741 | J68: 0.40932111 | K68: 0.74458423 | L68: 1.1555362
A69: CUSPT Equivalente ajustado Mayo 2017 | C69: 2.2054853 | D69: 1.2928926 | E69: 2.9388234 | F69: 1.8920641 | G69: 3.0835935 | H69: 0.35229984 | I69: 0.34533899 | J69: 0.21166667 | K69: 0.41718842 | L69: 2.4031101
A70: CUSPT Equivalente ajustado Junio 2017 | C70: 2.594863 | D70: 1.42274 | E70: 2.6871027 | F70: 2.2122373 | G70: 3.4791794 | H70: 0.3787503 | I70: 0.29882988 | J70: 0.21166667 | K70: 0.36521187 | L70: 2.0321353
A72: AÑO TARIFARIO No. 1 (01 Julio 2017- 30 Junio 2018)
A73: I SEMESTRE-Año 1 | B73: Zona: | C73: 1 | D73: 2 | E73: 3 | F73: 4 | G73: 5 | H73: 6 | I73: 7 | J73: 8 | K73: 9 | L73: 10
A74: CUSPT equivalente Pliego Tarifario | C74: 1.5207405 | D74: 1.1314655 | E74: 2.0747759 | F74: 1.5330243 | G74: 0.39005292 | H74: 0.54917411 | I74: 0.54920494 | J74: 0.89470325 | K74: 0.56713616 | L74: 2.3966044
A75: CUSPT Equivalente ajustado Julio 2017 | C75: 1.2604425 | D75: 1.7998 | E75: 1.1845837 | F75: 0.944742 | G75: 1.8583766 | H75: 0.67410469 | I75: 0.757946 | J75: 0.69976119 | K75: 0.74065857 | L75: 1.3784528
A76: CUSPT Equivalente ajustado Agosto 2017 | C76: 1.2733891 | D76: 1.7415673 | E76: 1.1565774 | F76: 1.0017626 | G76: 1.5336921 | H76: 0.63942653 | I76: 0.80156223 | J76: 0.74913888 | K76: 0.69671542 | L76: 1.5705695
A77: CUSPT Equivalente ajustado Septiembre 2017 | C77: 1.0758232 | D77: 1.870592 | E77: 1.1480697 | F77: 0.94463296 | G77: 1.1480391 | H77: 0.58802721 | I77: 0.94361184 | J77: 0.73690221 | K77: 1.1327428 | L77: 1.9690047
A78: CUSPT Equivalente ajustado Octubre 2017
A79: CUSPT Equivalente ajustado Noviembre 2017
A80: CUSPT Equivalente ajustado Diciembre 2017
A82: II SEMESTRE-Año 1 | B82: Zona: | C82: 1 | D82: 2 | E82: 3 | F82: 4 | G82: 5 | H82: 6 | I82: 7 | J82: 8 | K82: 9 | L82: 10
A83: CUSPT equivalente Pliego Tarifario | C83: 1.5207405 | D83: 1.1314655 | E83: 2.0747759 | F83: 1.5330243 | G83: 0.39005292 | H83: 0.54917411 | I83: 0.54920494 | J83: 0.89470325 | K83: 0.56713616 | L83: 2.3966044
A84: CUSPT Equivalente ajustado Enero 2018
A85: CUSPT Equivalente ajustado Febrero 2018
A86: CUSPT Equivalente ajustado Marzo 2018
A87: CUSPT Equivalente ajustado Abril 2018
A88: CUSPT Equivalente ajustado Mayo 2018 | C88: 1.2320929 | D88: 1.5691104 | E88: 0.96673042 | F88: 0.77468652 | G88: 2.0079865 | H88: 0.64307027 | I88: 1.1043226 | J88: 1.0833914 | K88: 0.74647616 | L88: 1.7899967
A89: CUSPT Equivalente ajustado Junio 2018 | C89: 1.0740321 | D89: 1.8132838 | E89: 0.9026056 | F89: 0.81185039 | G89: 0.6702347 | H89: 0.45663844 | I89: 0.44676362 | J89: 0.74347352 | K89: 0.6058805 | L89: 0.72669315
A91: AÑO TARIFARIO No. 1 (01 Julio 2025- 30 Junio 2026)
A92: AÑO TARIFARIO No. 1 (01 Julio 2025- 30 Junio 2026) | B92: Zona: | C92: 1 | D92: 2 | E92: 3 | F92: 4 | G92: 5 | H92: 6 | I92: 7 | J92: 8 | K92: 9 | L92: 10
A93: CUSPT equivalente Pliego Tarifario | C93: =+'CUSPT Equivalente - Generadores'!C33 -> 0.95085243 | D93: =+'CUSPT Equivalente - Generadores'!D33 -> 1.0145537 | E93: =+'CUSPT Equivalente - Generadores'!E33 -> 1.5513217 | F93: =+'CUSPT Equivalente - Generadores'!F33 -> 0.94634691 | G93: =+'CUSPT Equivalente - Generadores'!G33 -> 0.56823181 | H93: =+'CUSPT Equivalente - Generadores'!H33 -> 0.69438766 | I93: =+'CUSPT Equivalente - Generadores'!I33 -> 0.45834505 | J93: =+'CUSPT Equivalente - Generadores'!J33 -> 0.47691451 | ... L93: =+'CUSPT Equivalente - Generadores'!L33 -> 1.1390792
A94: CUSPT Equivalente ajustado Julio 2025 | C94: ='CUSPT Equivalente - Generadores'!C40 -> 0.58783446 | D94: ='CUSPT Equivalente - Generadores'!D40 -> 1.5569162 | E94: ='CUSPT Equivalente - Generadores'!E40 -> 1.0019713 | F94: ='CUSPT Equivalente - Generadores'!F40 -> 1.2135631 | G94: ='CUSPT Equivalente - Generadores'!G40 -> 0.61809005 | H94: ='CUSPT Equivalente - Generadores'!H40 -> 0.46423358 | I94: ='CUSPT Equivalente - Generadores'!I40 -> 0.51066754 | J94: ='CUSPT Equivalente - Generadores'!J40 -> 0.7082669 | ... L94: ='CUSPT Equivalente - Generadores'!L40 -> 1.2598578
A95: CUSPT Equivalente ajustado Agosto 2025 | C95: ='CUSPT Equivalente - Generadores'!C46 -> 0.58655031 | D95: ='CUSPT Equivalente - Generadores'!D46 -> 1.5545906 | E95: ='CUSPT Equivalente - Generadores'!E46 -> 1.0003018 | F95: ='CUSPT Equivalente - Generadores'!F46 -> 1.2117656 | G95: ='CUSPT Equivalente - Generadores'!G46 -> 0.61652151 | H95: ='CUSPT Equivalente - Generadores'!H46 -> 0.46320312 | I95: ='CUSPT Equivalente - Generadores'!I46 -> 0.50966754 | J95: ='CUSPT Equivalente - Generadores'!J46 -> 0.70694258 | ... L95: ='CUSPT Equivalente - Generadores'!L46 -> 1.2580334
A96: CUSPT Equivalente ajustado Septiembre 2025 | C96: ='CUSPT Equivalente - Generadores'!C52 -> 0.59186511 | D96: ='CUSPT Equivalente - Generadores'!D52 -> 1.3910646 | E96: ='CUSPT Equivalente - Generadores'!E52 -> 1.1300519 | F96: ='CUSPT Equivalente - Generadores'!F52 -> 1.3590338 | G96: ='CUSPT Equivalente - Generadores'!G52 -> 0.54162264 | H96: ='CUSPT Equivalente - Generadores'!H52 -> 0.47005726 | I96: ='CUSPT Equivalente - Generadores'!I52 -> 0.50107521 | J96: ='CUSPT Equivalente - Generadores'!J52 -> 0.76013277 | ... L96: ='CUSPT Equivalente - Generadores'!L52 -> 0.91281877
A97: CUSPT Equivalente ajustado Octubre 2025 | C97: ='CUSPT Equivalente - Generadores'!C58 -> 0.83332148 | D97: ='CUSPT Equivalente - Generadores'!D58 -> 1.3634896 | E97: ='CUSPT Equivalente - Generadores'!E58 -> 1.4640673 | F97: ='CUSPT Equivalente - Generadores'!F58 -> 1.473434 | G97: ='CUSPT Equivalente - Generadores'!G58 -> 0.48189733 | H97: ='CUSPT Equivalente - Generadores'!H58 -> 0.42584839 | I97: ='CUSPT Equivalente - Generadores'!I58 -> 0.43575388 | J97: ='CUSPT Equivalente - Generadores'!J58 -> 0.73431867 | ... L97: ='CUSPT Equivalente - Generadores'!L58 -> 1.2376415

Sheet CUSPT Equivalente - Generadores
A2: EMPRESA DE TRANSMISIÓN ELÉCTRICA, S.A.
A3: PERIODO TARIFARIO 2021-2025
A4: CARGO EQUIVALENTE POR USO DEL SISTEMA DE TRANSMISIÓN PARA GENERADORES
A5: Según Resolución AN No. 8068-Elec del 20 de noviembre de 2014
A6: Ingreso Total Previsto por CUSPT (Seguimiento Eléctrico + Estampilla Postal) [ kB/. ]
A7: Zona: | C7: 1 | D7: 2 | E7: 3 | F7: 4 | G7: 5 | H7: 6 | I7: 7 | J7: 8 | K7: 9 | L7: 10 | M7: Total
A8: AT1 | B8: GEN | C8: 3241.2535 | D8: 11143.799 | E8: 2431.8854 | F8: 6023.6751 | G8: 2777.5474 | H8: 1259.745 | I8: 797.30415 | J8: 2520.909 | K8: 6465.5459 | L8: 5135.4425 | M8: =SUM(C8:L8) -> 41797.107
A9: AT2 | B9: GEN | C9: 3316.7961 | D9: 9579.2366 | E9: 2665.7726 | F9: 6418.71 | G9: 4331.0472 | H9: 992.819 | I9: 788.77359 | J9: 2181.5955 | K9: 5269.5231 | L9: 5402.4009 | M9: =SUM(C9:L9) -> 40946.675
A10: AT3 | B10: GEN | C10: 3628.75 | D10: 8252.78 | E10: 2667.43 | F10: 6299.99 | G10: 5796.75 | H10: 808.64 | I10: 824.24 | J10: 1503.41 | K10: 4494.11 | L10: 5783.41 | M10: =SUM(C10:L10) -> 40059.51
A11: AT4 | B11: GEN | C11: 4108.4812 | D11: 6680.1055 | E11: 2880.6183 | F11: 5569.403 | G11: 5615.1892 | H11: 1224.8998 | I11: 876.33741 | J11: 1487.9733 | K11: 7245.6527 | L11: 3446.8993 | M11: =SUM(C11:L11) -> 39135.56
A13: Capacidad Instalada de Generación (Cinst) [ MW ]
A14: Zona: | C14: 1 | D14: 2 | E14: 3 | F14: 4 | G14: 5 | H14: 6 | I14: 7 | J14: 8 | K14: 9 | L14: 10 | M14: Total
A15: AT1 | B15: Cinst (G) | C15: 212.7946 | D15: 537.8 | E15: 155.27 | F15: 343.2 | G15: 150.63862 | H15: 151.3 | I15: 159.33 | J15: 260 | K15: 740.45 | L15: 252.17 | M15: =SUM(C15:L15) -> 2962.9532
A16: AT2 | B16: Cinst (G) | C16: 294.17 | D16: 428.69 | E16: 152.99 | F16: 408.96 | G16: 770.55862 | H16: 147 | I16: 159.33 | J16: 260 | K16: 740.25 | L16: 252.17 | M16: =SUM(C16:L16) -> 3614.1186
A17: AT3 | B17: Cinst (G) | C17: 320.07 | D17: 548.69 | E17: 154.74 | F17: 410.53 | G17: 815.45 | H17: 147 | I17: 159.33 | J17: 260 | K17: 740.25 | L17: 252.17 | M17: =SUM(C17:L17) -> 3808.23
A18: AT4 | B18: Cinst (G) | C18: 360.07 | D18: 548.69 | E18: 154.74 | F18: 490.43 | G18: 823.48862 | H18: 147 | I18: 159.33 | J18: 260 | K18: 1410.25 | L18: 252.17 | M18: =SUM(C18:L18) -> 4606.1686
A20: APROBADOS EN EL PLIEGO TARIFARIO PUBLICADO-VIGENTE
A21: CUSPT equivalentes [ B/. / kW-mes ]
A22: Zona: | C22: 1 | D22: 2 | E22: 3 | F22: 4 | G22: 5 | H22: 6 | I22: 7 | J22: 8 | K22: 9 | L22: 10
A23: AT1 | B23: GEN | C23: =IF(C15>0,C8/(C15*12),0) -> 1.2693201 | D23: =IF(D15>0,D8/(D15*12),0) -> 1.726757 | E23: =IF(E15>0,E8/(E15*12),0) -> 1.3051917 | F23: =IF(F15>0,F8/(F15*12),0) -> 1.4626251 | G23: =IF(G15>0,G8/(G15*12),0) -> 1.5365401 | H23: =IF(H15>0,H8/(H15*12),0) -> 0.69384503 | I23: =IF(I15>0,I8/(I15*12),0) -> 0.4170088 | J23: =IF(J15>0,J8/(J15*12),0) -> 0.80798366 | ... L23: =IF(L15>0,L8/(L15*12),0) -> 1.6970835 | M23: =SUM(C23:L23) -> 11.644015
A24: AT2 | B24: GEN | C24: =IF(C16>0,C9/(C16*12),0) -> 0.93959166 | D24: =IF(D16>0,D9/(D16*12),0) -> 1.8621142 | E24: =IF(E16>0,E9/(E16*12),0) -> 1.4520408 | F24: =IF(F16>0,F9/(F16*12),0) -> 1.3079335 | G24: =IF(G16>0,G9/(G16*12),0) -> 0.46838825 | H24: =IF(H16>0,H9/(H16*12),0) -> 0.56282256 | I24: =IF(I16>0,I9/(I16*12),0) -> 0.41254712 | J24: =IF(J16>0,J9/(J16*12),0) -> 0.69922932 | ... L24: =IF(L16>0,L9/(L16*12),0) -> 1.7853038 | M24: =SUM(C24:L24) -> 10.083186
A25: AT3 | B25: GEN | C25: =IF(C17>0,C10/(C17*12),0) -> 0.94478031 | D25: =IF(D17>0,D10/(D17*12),0) -> 1.2534066 | E25: =IF(E17>0,E10/(E17*12),0) -> 1.4365118 | F25: =IF(F17>0,F10/(F17*12),0) -> 1.2788326 | G25: =IF(G17>0,G10/(G17*12),0) -> 0.59238764 | H25: =IF(H17>0,H10/(H17*12),0) -> 0.4584127 | I25: =IF(I17>0,I10/(I17*12),0) -> 0.43109688 | J25: =IF(J17>0,J10/(J17*12),0) -> 0.48186218 | ... L25: =IF(L17>0,L10/(L17*12),0) -> 1.911214 | M25: =SUM(C25:L25) -> 9.2944273
A26: AT4 | B26: GEN | C26: =IF(C18>0,C11/(C18*12),0) -> 0.95085243 | D26: =IF(D18>0,D11/(D18*12),0) -> 1.0145537 | E26: =IF(E18>0,E11/(E18*12),0) -> 1.5513217 | F26: =IF(F18>0,F11/(F18*12),0) -> 0.94634691 | G26: =IF(G18>0,G11/(G18*12),0) -> 0.56823181 | H26: =IF(H18>0,H11/(H18*12),0) -> 0.69438766 | I26: =IF(I18>0,I11/(I18*12),0) -> 0.45834505 | J26: =IF(J18>0,J11/(J18*12),0) -> 0.47691451 | ... L26: =IF(L18>0,L11/(L18*12),0) -> 1.1390792 | M26: =SUM(C26:L26) -> 8.2281872
A28: CUSPT equivalentes mensuales ajustados [ B/. / kW-mes ]
A30: Julio 2025- Junio 2026 | B30: Zona: | C30: 1 | D30: 2 | E30: 3 | F30: 4 | G30: 5 | H30: 6 | I30: 7 | J30: 8 | K30: 9 | L30: 10 | M30: Total
A31: Ingreso previsto mensual inicial | C31: =+C11/12 -> 342.37344 | D31: =+D11/12 -> 556.67546 | E31: =+E11/12 -> 240.05153 | F31: =+F11/12 -> 464.11692 | G31: =+G11/12 -> 467.93243 | H31: =+H11/12 -> 102.07499 | I31: =+I11/12 -> 73.028117 | J31: =+J11/12 -> 123.99777 | ... L31: =+L11/12 -> 287.24161 | M31: =SUM(C31:L31) -> 3261.2966
A32: Capacidad Instalada MW | C32: =+C18 -> 360.07 | D32: =+D18 -> 548.69 | E32: =+E18 -> 154.74 | F32: =+F18 -> 490.43 | G32: =+G18 -> 823.48862 | H32: =+H18 -> 147 | I32: =+I18 -> 159.33 | J32: =+J18 -> 260 | ... L32: =+L18 -> 252.17 | M32: =SUM(C32:L32) -> 4606.1686
A33: Cargo equivalente inicial | C33: =C31/C32 -> 0.95085243 | D33: =D31/D32 -> 1.0145537 | E33: =E31/E32 -> 1.5513217 | F33: =F31/F32 -> 0.94634691 | G33: =G31/G32 -> 0.56823181 | H33: =H31/H32 -> 0.69438766 | I33: =I31/I32 -> 0.45834505 | J33: =J31/J32 -> 0.47691451 | ... L33: =L31/L32 -> 1.1390792 | M33: =SUM(C33:L33) -> 8.2281872
A34: % Variación respecto al inicial | C34: =(C33-C26)/C26 -> 1.1676081e-16 | D34: =(D33-D26)/D26 -> 0 | E34: =(E33-E26)/E26 -> 0 | F34: =(F33-F26)/F26 -> 0 | G34: =(G33-G26)/G26 -> -1.9538206e-16 | H34: =(H33-H26)/H26 -> 0 | I34: =(I33-I26)/I26 -> -1.2111214e-16 | J34: =(J33-J26)/J26 -> 0 | ... L34: =(L33-L26)/L26 -> 0 | M34: =(M33-M26)/M25 -> 1.9112063e-16
A37: 45839 | B37: Zona: | C37: 1 | D37: 2 | E37: 3 | F37: 4 | G37: 5 | H37: 6 | I37: 7 | J37: 8 | K37: 9 | L37: 10 | M37: Total
A38: Ingreso previsto mensual facturado | C38: 210.4271 | D38: 894.10583 | E38: 179.08233 | F38: 498.05841 | G38: 476.91828 | H38: 77.527008 | I38: 56.878151 | J38: 184.1494 | K38: 576.65869 | L38: 317.69833 | M38: =SUM(C38:L38) -> 3471.5035
A39: Capacidad Instalada MW | C39: 357.97 | D39: 574.28 | E39: 178.73 | F39: 410.41 | G39: 771.6 | H39: 167 | I39: 111.38 | J39: 260 | K39: 1178.45 | L39: 252.17 | M39: =SUM(C39:L39) -> 4261.99
A40: Cargo equivalente ajustado | C40: =C38/C39 -> 0.58783446 | D40: =D38/D39 -> 1.5569162 | E40: =E38/E39 -> 1.0019713 | F40: =F38/F39 -> 1.2135631 | G40: =G38/G39 -> 0.61809005 | H40: =H38/H39 -> 0.46423358 | I40: =I38/I39 -> 0.51066754 | J40: =J38/J39 -> 0.7082669 | ... M40: =M38/M39 -> 0.81452644
A41: % Variación respecto al inicial | C41: =(C40-$C$33)/$C$33 -> -0.38178161 | D41: =(D40-$D$33)/$D$33 -> 0.53458238 | E41: =(E40-$E$33)/$E$33 -> -0.35411767 | F41: =(F40-$F$33)/$F$33 -> 0.28236595 | G41: =(G40-$G$33)/$G$33 -> 0.08774277 | H41: =(H40-$H$33)/$H$33 -> -0.33144898 | I41: =(I40-$I$33)/$I$33 -> 0.11415524 | J41: =(J40-$J$33)/$J$33 -> 0.48510246 | K41: =(K40-$K$33)/$K$33 -> 0.14289812 | L41: =(L40-$L$33)/$L$33 -> 0.10603174 | M41: =(M40-$M$33)/$M$33 -> -0.90100779
A43: 45870 | B43: Zona: | C43: 1 | D43: 2 | E43: 3 | F43: 4 | G43: 5 | H43: 6 | I43: 7 | J43: 8 | K43: 9 | L43: 10 | M43: Total
A44: Ingreso previsto mensual facturado | C44: 209.96742 | D44: 892.77028 | E44: 178.78394 | F44: 497.32073 | G44: 475.708 | H44: 77.354921 | I44: 56.766771 | J44: 183.80507 | K44: 575.32069 | L44: 317.23827 | M44: =SUM(C44:L44) -> 3465.0361
A45: Capacidad Instalada MW | C45: 357.97 | D45: 574.28 | E45: 178.73 | F45: 410.41 | G45: 771.6 | H45: 167 | I45: 111.38 | J45: 260 | K45: 1178.45 | L45: 252.17 | M45: =SUM(C45:L45) -> 4261.99
A46: Cargo equivalente ajustado | C46: =C44/C45 -> 0.58655031 | D46: =D44/D45 -> 1.5545906 | E46: =E44/E45 -> 1.0003018 | F46: =F44/F45 -> 1.2117656 | G46: =G44/G45 -> 0.61652151 | H46: =H44/H45 -> 0.46320312 | I46: =I44/I45 -> 0.50966754 | J46: =J44/J45 -> 0.70694258 | ... M46: =M44/M45 -> 0.81300897
A47: % Variación respecto al inicial | C47: =(C46-$C$33)/$C$33 -> -0.38313213 | D47: =(D46-$D$33)/$D$33 -> 0.53229012 | E47: =(E46-$E$33)/$E$33 -> -0.35519384 | F47: =(F46-$F$33)/$F$33 -> 0.28046661 | G47: =(G46-$G$33)/$G$33 -> 0.084982395 | H47: =(H46-$H$33)/$H$33 -> -0.33293296 | I47: =(I46-$I$33)/$I$33 -> 0.11197348 | J47: =(J46-$J$33)/$J$33 -> 0.48232561 | K47: =(K46-$K$33)/$K$33 -> 0.1402463 | L47: =(L46-$L$33)/$L$33 -> 0.10443008 | M47: =(M46-$M$33)/$M$33 -> -0.90119221
A49: 45901 | B49: Zona: | C49: 1 | D49: 2 | E49: 3 | F49: 4 | G49: 5 | H49: 6 | I49: 7 | J49: 8 | K49: 9 | L49: 10 | M49: Total
A50: Ingreso previsto mensual facturado | C50: ='[1]Recaudación Mensual SEP2025'!$V$7/1000 -> 211.86995 | D50: ='[1]Recaudación Mensual SEP2025'!$V$23/1000 -> 798.86055 | E50: ='[1]Recaudación Mensual SEP2025'!$V$35/1000 -> 201.97418 | F50: ='[1]Recaudación Mensual SEP2025'!$V$46/1000 -> 557.76108 | G50: ='[1]Recaudación Mensual SEP2025'!$V$83/1000 -> 417.91603 | H50: ='[1]Recaudación Mensual SEP2025'!$V$125/1000 -> 78.499562 | I50: ='[1]Recaudación Mensual SEP2025'!$V$134/1000 -> 55.809757 | J50: ='[1]Recaudación Mensual SEP2025'!$V$141/1000 -> 197.63452 | K50: ='[1]Recaudación Mensual SEP2025'!$V$144/1000 -> 608.26919 | L50: ='[1]Recaudación Mensual SEP2025'!$V$153/1000 -> 230.18551 | M50: =SUM(C50:L50) -> 3358.7803
A51: Capacidad Instalada MW | C51: 357.97 | D51: 574.28 | E51: 178.73 | F51: 410.41 | G51: 771.6 | H51: 167 | I51: 111.38 | J51: 260 | K51: 1178.45 | L51: 252.17 | M51: =SUM(C51:L51) -> 4261.99
A52: Cargo equivalente ajustado | C52: =C50/C51 -> 0.59186511 | D52: =D50/D51 -> 1.3910646 | E52: =E50/E51 -> 1.1300519 | F52: =F50/F51 -> 1.3590338 | G52: =G50/G51 -> 0.54162264 | H52: =H50/H51 -> 0.47005726 | I52: =I50/I51 -> 0.50107521 | J52: =J50/J51 -> 0.76013277 | ... M52: =M50/M51 -> 0.78807795
A53: % Variación respecto al inicial | C53: =(C52-$C$33)/$C$33 -> -0.37754263 | D53: =(D52-$D$33)/$D$33 -> 0.37110986 | E53: =(E52-$E$33)/$E$33 -> -0.2715554 | F53: =(F52-$F$33)/$F$33 -> 0.4360842 | G53: =(G52-$G$33)/$G$33 -> -0.046828027 | H53: =(H52-$H$33)/$H$33 -> -0.3230622 | I53: =(I52-$I$33)/$I$33 -> 0.093227046 | J53: =(J52-$J$33)/$J$33 -> 0.59385541 | K53: =(K52-$K$33)/$K$33 -> 0.20554797 | L53: =(L52-$L$33)/$L$33 -> -0.19863452 | M53: =(M52-$M$33)/$M$33 -> -0.90422217
A55: 45931 | B55: Zona: | C55: 1 | D55: 2 | E55: 3 | F55: 4 | G55: 5 | H55: 6 | I55: 7 | J55: 8 | K55: 9 | L55: 10 | M55: Total
A56: Ingreso previsto mensual facturado | C56: ='[2]Recaudación Mensual OCT2025'!$V$7/1000 -> 298.30409 | D56: ='[2]Recaudación Mensual OCT2025'!$V$23/1000 -> 783.02478 | E56: ='[2]Recaudación Mensual OCT2025'!$V$35/1000 -> 261.67275 | F56: ='[2]Recaudación Mensual OCT2025'!$V$46/1000 -> 604.71203 | G56: ='[2]Recaudación Mensual OCT2025'!$V$83/1000 -> 371.83198 | H56: ='[2]Recaudación Mensual OCT2025'!$V$125/1000 -> 71.116681 | I56: ='[2]Recaudación Mensual OCT2025'!$V$134/1000 -> 48.534267 | J56: ='[2]Recaudación Mensual OCT2025'!$V$141/1000 -> 190.92285 | K56: ='[2]Recaudación Mensual OCT2025'!$V$144/1000 -> 519.43779 | L56: ='[2]Recaudación Mensual OCT2025'!$V$153/1000 -> 312.09605 | M56: =SUM(C56:L56) -> 3461.6533
A57: Capacidad Instalada MW | C57: 357.97 | D57: 574.28 | E57: 178.73 | F57: 410.41 | G57: 771.6 | H57: 167 | I57: 111.38 | J57: 260 | K57: 1178.45 | L57: 252.17 | M57: =SUM(C57:L57) -> 4261.99
A58: Cargo equivalente ajustado | C58: =C56/C57 -> 0.83332148 | D58: =D56/D57 -> 1.3634896 | E58: =E56/E57 -> 1.4640673 | F58: =F56/F57 -> 1.473434 | G58: =G56/G57 -> 0.48189733 | H58: =H56/H57 -> 0.42584839 | I58: =I56/I57 -> 0.43575388 | J58: =J56/J57 -> 0.73431867 | ... M58: =M56/M57 -> 0.81221525
A59: % Variación respecto al inicial | C59: =(C58-$C$33)/$C$33 -> -0.12360588 | D59: =(D58-$D$33)/$D$33 -> 0.34393043 | E59: =(E58-$E$33)/$E$33 -> -0.056245219 | F59: =(F58-$F$33)/$F$33 -> 0.55697023 | G59: =(G58-$G$33)/$G$33 -> -0.15193533 | H59: =(H58-$H$33)/$H$33 -> -0.38672817 | I59: =(I58-$I$33)/$I$33 -> -0.049288575 | J59: =(J58-$J$33)/$J$33 -> 0.5397281 | K59: =(K58-$K$33)/$K$33 -> 0.029490203 | L59: =(L58-$L$33)/$L$33 -> 0.086528015 | M59: =(M58-$M$33)/$M$33 -> -0.90128868
